BEGIN:VCALENDAR
VERSION:2.0
PRODID:-//pretix//Passive_House_Institute//
BEGIN:VEVENT
UID:pretix-PHI-anmf-hotel-0@tickets.passivehouse.com
DTSTART;VALUE=DATE:20251119
DTEND;VALUE=DATE:20251120
DESCRIPTION:Tickets: https://tickets.passivehouse.com/PHI/anmf-hotel/\nOrga
 nizer: Passive House Institute
DTSTAMP:20260420T001900Z
LOCATION:online
SUMMARY:The CLT 8-floor ANMF hotel in Melbourne\, Australia
END:VEVENT
END:VCALENDAR
