BEGIN:VCALENDAR
VERSION:2.0
PRODID:-//pretix//Passive_House_Institute//
BEGIN:VEVENT
UID:pretix-PHI-blowerdoor-0@tickets.passivehouse.com
DTSTART;VALUE=DATE:20230329
DTEND;VALUE=DATE:20230330
DESCRIPTION:Tickets: https://tickets.passivehouse.com/PHI/blowerdoor/\nOrga
 nizer: Passive House Institute
DTSTAMP:20260419T140340Z
SUMMARY:iPHA webinar: Passive House Airtightness and the blower door test
END:VEVENT
END:VCALENDAR
