BEGIN:VCALENDAR
VERSION:2.0
PRODID:-//pretix//Passive_House_Institute//
BEGIN:VEVENT
UID:pretix-PHI-build-cert-crit-0@tickets.passivehouse.com
DTSTART;VALUE=DATE:20221207
DTEND;VALUE=DATE:20221208
DESCRIPTION:Tickets: https://tickets.passivehouse.com/PHI/build-cert-crit/\
 nOrganizer: Passive House Institute
DTSTAMP:20260420T034131Z
SUMMARY:Updates to the building certification criteria
END:VEVENT
END:VCALENDAR
