BEGIN:VCALENDAR
VERSION:2.0
PRODID:-//pretix//Passive_House_Institute//
BEGIN:VEVENT
UID:pretix-PHI-cooling-0@tickets.passivehouse.com
DTSTART;VALUE=DATE:20210407
DTEND;VALUE=DATE:20210408
DESCRIPTION:Tickets: https://tickets.passivehouse.com/PHI/cooling/\nOrganiz
 er: Passive House Institute
DTSTAMP:20260425T153111Z
SUMMARY:Cooling systems for hot and humid climates
END:VEVENT
END:VCALENDAR
