BEGIN:VCALENDAR
VERSION:2.0
PRODID:-//pretix//Passive_House_Institute//
BEGIN:VEVENT
UID:pretix-PHI-diy-0@tickets.passivehouse.com
DTSTART;VALUE=DATE:20230607
DTEND;VALUE=DATE:20230608
DESCRIPTION:Tickets: https://tickets.passivehouse.com/PHI/diy/\nOrganizer: 
 Passive House Institute
DTSTAMP:20260419T140340Z
SUMMARY:DIY measures
END:VEVENT
END:VCALENDAR
