BEGIN:VCALENDAR
VERSION:2.0
PRODID:-//pretix//Passive_House_Institute//
BEGIN:VEVENT
UID:pretix-PHI-firehouse-nyc-0@tickets.passivehouse.com
DTSTART;VALUE=DATE:20251203
DTEND;VALUE=DATE:20251204
DESCRIPTION:Tickets: https://tickets.passivehouse.com/PHI/firehouse-nyc/\nO
 rganizer: Passive House Institute
DTSTAMP:20260419T224452Z
LOCATION:online
SUMMARY:From firehouse to Passive House: Engine 16\, New York City
END:VEVENT
END:VCALENDAR
