BEGIN:VCALENDAR
VERSION:2.0
PRODID:-//pretix//Passive_House_Institute//
BEGIN:VTIMEZONE
TZID:Europe/Berlin
BEGIN:STANDARD
DTSTART:20001029T040000
RRULE:FREQ=YEARLY;BYDAY=-1SU;BYMONTH=10
TZNAME:CET
TZOFFSETFROM:+0200
TZOFFSETTO:+0100
END:STANDARD
BEGIN:DAYLIGHT
DTSTART:20000326T030000
RRULE:FREQ=YEARLY;BYDAY=-1SU;BYMONTH=3
TZNAME:CEST
TZOFFSETFROM:+0100
TZOFFSETTO:+0200
END:DAYLIGHT
END:VTIMEZONE
BEGIN:VEVENT
UID:pretix-PHI-mellen-11-0@tickets.passivehouse.com
DTSTART;TZID=Europe/Berlin:20251010T100000
DTEND;TZID=Europe/Berlin:20251010T160000
DESCRIPTION:Tickets: https://tickets.passivehouse.com/PHI/mellen-11/\nVeran
 stalter: Passive House Institute
DTSTAMP:20260420T120955Z
LOCATION:Wohnanlage "In der Mellen"\, In der Mellen 567\, 568\, 569\, 6881 
 Mellau\, Vorarlberg [AT]
SUMMARY:Passivhaus on Tour Passivhaus-Wohnanlage "In der Mellen"
END:VEVENT
END:VCALENDAR
