BEGIN:VCALENDAR
VERSION:2.0
PRODID:-//pretix//Passive_House_Institute//
BEGIN:VTIMEZONE
TZID:Europe/Berlin
BEGIN:STANDARD
DTSTART:20001029T040000
RRULE:FREQ=YEARLY;BYDAY=-1SU;BYMONTH=10
TZNAME:CET
TZOFFSETFROM:+0200
TZOFFSETTO:+0100
END:STANDARD
BEGIN:DAYLIGHT
DTSTART:20000326T030000
RRULE:FREQ=YEARLY;BYDAY=-1SU;BYMONTH=3
TZNAME:CEST
TZOFFSETFROM:+0100
TZOFFSETTO:+0200
END:DAYLIGHT
END:VTIMEZONE
BEGIN:VEVENT
UID:pretix-PHI-newPHPP10-0@tickets.passivehouse.com
DTSTART;TZID=Europe/Berlin:20221017T150000
DTEND;TZID=Europe/Berlin:20221017T190000
DESCRIPTION:Tickets: https://tickets.passivehouse.com/PHI/newPHPP10/\nOrgan
 izer: Passive House Institute
DTSTAMP:20260420T065911Z
LOCATION:This workshop will be held online. Access will be sent to you by e
 -mail.
SUMMARY:PHPP 10 - New things and what you always wanted to ask
END:VEVENT
END:VCALENDAR
