BEGIN:VCALENDAR
VERSION:2.0
PRODID:-//pretix//Passive_House_Institute//
BEGIN:VEVENT
UID:pretix-PHI-parma2022-0@tickets.passivehouse.com
DTSTART;VALUE=DATE:20220706
DTEND;VALUE=DATE:20220707
DESCRIPTION:Tickets: https://tickets.passivehouse.com/PHI/parma2022/\nOrgan
 izer: Passive House Institute
DTSTAMP:20260420T123809Z
LOCATION:online
SUMMARY:Project Spotlight: Verdi school in Collecchio\, Parma - a successfu
 l EnerPHit project
END:VEVENT
END:VCALENDAR
