BEGIN:VCALENDAR
VERSION:2.0
PRODID:-//pretix//Passive_House_Institute//
BEGIN:VEVENT
UID:pretix-PHI-ph-hospital-0@tickets.passivehouse.com
DTSTART;VALUE=DATE:20230201
DTEND;VALUE=DATE:20230202
DESCRIPTION:Tickets: https://tickets.passivehouse.com/PHI/ph-hospital/\nOrg
 anizer: Passive House Institute
DTSTAMP:20260419T140340Z
SUMMARY:iPHA webinar: Passive House hospitals and health care centres
END:VEVENT
END:VCALENDAR
