BEGIN:VCALENDAR
VERSION:2.0
PRODID:-//pretix//Passive_House_Institute//
BEGIN:VEVENT
UID:pretix-PHI-summer-comfort-0@tickets.passivehouse.com
DTSTART;VALUE=DATE:20210602
DTEND;VALUE=DATE:20210603
DESCRIPTION:Tickets: https://tickets.passivehouse.com/PHI/summer-comfort/\n
 Organizer: Passive House Institute
DTSTAMP:20260425T115703Z
SUMMARY:Summer comfort with passive measures
END:VEVENT
END:VCALENDAR
